BEGIN:VCALENDAR
VERSION:2.0
PRODID:-//Susanne Raschke | - ECPv6.15.20//NONSGML v1.0//EN
CALSCALE:GREGORIAN
METHOD:PUBLISH
X-ORIGINAL-URL:https://raschke.info
X-WR-CALDESC:Veranstaltungen für Susanne Raschke |
REFRESH-INTERVAL;VALUE=DURATION:PT1H
X-Robots-Tag:noindex
X-PUBLISHED-TTL:PT1H
BEGIN:VTIMEZONE
TZID:UTC
BEGIN:STANDARD
TZOFFSETFROM:+0000
TZOFFSETTO:+0000
TZNAME:UTC
DTSTART:20240101T000000
END:STANDARD
END:VTIMEZONE
BEGIN:VEVENT
DTSTART;TZID=UTC:20250611T093000
DTEND;TZID=UTC:20250611T120000
DTSTAMP:20260423T165343
CREATED:20230503T045717Z
LAST-MODIFIED:20241210T105448Z
UID:1009-1749634200-1749643200@raschke.info
SUMMARY:ab 6 Jahre\,  Räuchern für Kinder\, mit dem Duft der Wald und Wiesen Wesen
DESCRIPTION:Eintauchen in die Welt der Naturwesen\, wir trommeln die Naturwesen herbei\, erspüren ihre Botschaften. Entdecken und riechen aus der Vielfalt von getrockneten Naturschätzen wie Wurzeln\, Blätter\, Blüten und Harze die wir vermörsern und einen zauberhaften Räucher Duft kreieren. Gestalten dein Räuchersäckchen für die kleine Duftmischung zu Hause. Mit dem Element Luft\, durch die Kraft der Feder\, verteilen wir den Räucherduft und Segnen uns gegenseitig. Zum Abschluss noch eine Überraschung der Naturwesen. Alter ab 6 Jahre\, T.N. 4-6 Mitbringen: Socken\, persönliches Getränk \n 
URL:https://raschke.info/event/raeuchern-fuer-kinder-mit-dem-duft-der-wald-und-wiesenwesen/
LOCATION:Aromapraxis Raschke\, Kysostrasse 17\, Schweitenkirchen (Ortsteil Geisenhausen)\, Bayern\, 85301\, Deutschland
CATEGORIES:Kurse für Kinder,Räuchern
ATTACH;FMTTYPE=image/jpeg:https://raschke.info/wp-content/uploads/2023/02/kurse-fuer-kinder.jpg
END:VEVENT
END:VCALENDAR