BEGIN:VCALENDAR
VERSION:2.0
PRODID:-//Susanne Raschke | - ECPv6.15.20//NONSGML v1.0//EN
CALSCALE:GREGORIAN
METHOD:PUBLISH
X-WR-CALNAME:Susanne Raschke |
X-ORIGINAL-URL:https://raschke.info
X-WR-CALDESC:Veranstaltungen für Susanne Raschke |
REFRESH-INTERVAL;VALUE=DURATION:PT1H
X-Robots-Tag:noindex
X-PUBLISHED-TTL:PT1H
BEGIN:VTIMEZONE
TZID:UTC
BEGIN:STANDARD
TZOFFSETFROM:+0000
TZOFFSETTO:+0000
TZNAME:UTC
DTSTART:20240101T000000
END:STANDARD
END:VTIMEZONE
BEGIN:VEVENT
DTSTART;TZID=UTC:20251128T173000
DTEND;TZID=UTC:20251128T203000
DTSTAMP:20260424T020600
CREATED:20241104T174206Z
LAST-MODIFIED:20251124T143636Z
UID:1305-1764351000-1764361800@raschke.info
SUMMARY:Seminarkurs Räuchern\, eine Duftreise durch die Welt\, Pflanzen verräuchern wird wie gemacht? mit was und womit
DESCRIPTION:Kursinhalt\nIch biete eine Vielfalt an Duftkomponenten aus vielen Ländern zum riechen und vermischen an. Wie findet man den Zugang zur Räucherware\, woher weiß ich was meine Seele braucht. Nach Einstimmen auf die Pflanzenwesen üben wir den Zugang zur persönlichen Duftfindung. Reflektieren ist es stimmig? Kreieren daraus die Räuchermischung. Testen die Möglichkeiten des ver-Räucherns\, den bei jeder Variante entfaltet sich das Duftprofil bei gleicher Mischung anderst.  Wir kreieren eine persönliche und eine Gruppenmischung\, besprechen  was eignet sich zu weitere Themen (das Thema gibt die Gruppe vor ) ist noch Zeit vorhanden\, machen wir auch dazu Mischungen\, aus allen Mischungen ist eine kleiner Teil davon  für Dich zu Hause. \nTeilnehmeranzahl: 4 bis  8 \nMitzubringen:\nSchreibmaterial für persönliche Notizen\, Socken (Fussboden ist kalt) \nim Preis enthalten: Räucherware\, Beutel zum befüllen\, kleines Skript\, Getränke \nWeiterlesen
URL:https://raschke.info/event/seminarkurs-raeuchern-eine-duftreise-durch-die-welt-pflanzen-verraeuchern-wird-wie-gemacht-mit-was-und-womit/
LOCATION:Aromapraxis Raschke\, Kysostrasse 17\, Schweitenkirchen (Ortsteil Geisenhausen)\, Bayern\, 85301\, Deutschland
CATEGORIES:Räuchern,Seminarkurse
END:VEVENT
END:VCALENDAR